BEGIN:VCALENDAR
VERSION:2.0
PRODID:-//Debby Maziarz Productions - ECPv6.0.13.1//NONSGML v1.0//EN
CALSCALE:GREGORIAN
METHOD:PUBLISH
X-WR-CALNAME:Debby Maziarz Productions
X-ORIGINAL-URL:https://www.debbymaziarz.com.au
X-WR-CALDESC:Events for Debby Maziarz Productions
REFRESH-INTERVAL;VALUE=DURATION:PT1H
X-Robots-Tag:noindex
X-PUBLISHED-TTL:PT1H
BEGIN:VTIMEZONE
TZID:UTC
BEGIN:STANDARD
TZOFFSETFROM:+0000
TZOFFSETTO:+0000
TZNAME:UTC
DTSTART:20220101T000000
END:STANDARD
END:VTIMEZONE
BEGIN:VEVENT
DTSTART;TZID=UTC:20220405T183000
DTEND;TZID=UTC:20220405T203000
DTSTAMP:20260423T170058
CREATED:20220311T003748Z
LAST-MODIFIED:20220311T003748Z
UID:3100-1649183400-1649190600@www.debbymaziarz.com.au
SUMMARY:Effective Grant Writing Online Workshop: City of Whittlesea
DESCRIPTION:This fun and hands-on online workshop brought to you by the City of Whittlesea will focus on transforming your ideas into fundable concepts and will walk you step by step through the grant making process. \nIncludes: \n• Where to find the money\n• Writing a 50-word grab\n• Understanding the assessment criteria\n• Answering the questions in the application form\n• Building a project budget (for a grant application) \nPlease note this workshop is designed for members of City of Whittlesea-based groups only. \nFor more information and to book click here.
URL:https://www.debbymaziarz.com.au/workshop/effective-grant-writing-online-workshop-city-of-whittlesea/
LOCATION:Online\, Australia
END:VEVENT
BEGIN:VEVENT
DTSTART;TZID=UTC:20220407T180000
DTEND;TZID=UTC:20220407T200000
DTSTAMP:20260423T170058
CREATED:20220410T131405Z
LAST-MODIFIED:20220410T131845Z
UID:3124-1649354400-1649361600@www.debbymaziarz.com.au
SUMMARY:Grant Writing Workshop: Suburban Rail Loop Community Projects Fund
DESCRIPTION:Join expert grant writer and facilitator Debby Maziarz to build your understanding of the grant writing process. This interactive workshop will focus on exploring your ideas and developing projects in preparation for approaching funding bodies and partners. \nIncludes: \n\nFinding the clarity (your project)\nEligibility\nAddressing the assessment criteria\nWriting the 100 word grab\nAnswering the questions in the application form\nBuilding a project budget\n\nPlease note: This is a general grant writing workshop for people interested in applying for a SRL Community Projects Fund Community Support Grant. Reference will be made to the SRL Community Projects Fund (guidelines and application form) however this is not an information session about SRL East or the SRL Community Projects Fund. \nTo find out more about the program or the grant writing workshops contact: contact@srla.vic.gov.au. Register online here.
URL:https://www.debbymaziarz.com.au/workshop/grant-writing-workshop-suburban-rail-loop-community-projects-fund/
LOCATION:Online\, Australia
END:VEVENT
BEGIN:VEVENT
DTSTART;TZID=UTC:20220413T100000
DTEND;TZID=UTC:20220413T120000
DTSTAMP:20260423T170058
CREATED:20220410T131426Z
LAST-MODIFIED:20220410T131722Z
UID:3128-1649844000-1649851200@www.debbymaziarz.com.au
SUMMARY:Grant Writing Workshop: Suburban Rail Loop Community Projects Fund
DESCRIPTION:Join expert grant writer and facilitator Debby Maziarz to build your understanding of the grant writing process. This interactive workshop will focus on exploring your ideas and developing projects in preparation for approaching funding bodies and partners. \nIncludes: \n\nFinding the clarity (your project)\nEligibility\nAddressing the assessment criteria\nWriting the 100 word grab\nAnswering the questions in the application form\nBuilding a project budget\n\nPlease note: This is a general grant writing workshop for people interested in applying for a SRL Community Projects Fund Community Support Grant. Reference will be made to the SRL Community Projects Fund (guidelines and application form) however this is not an information session about SRL East or the SRL Community Projects Fund. \nTo find out more about the program or the grant writing workshops contact: contact@srla.vic.gov.au. Register online here.
URL:https://www.debbymaziarz.com.au/workshop/grant-writing-workshop-suburban-rail-loop-community-projects-fund-2/
LOCATION:Online\, Australia
END:VEVENT
BEGIN:VEVENT
DTSTART;TZID=UTC:20220413T183000
DTEND;TZID=UTC:20220413T203000
DTSTAMP:20260423T170058
CREATED:20220227T114451Z
LAST-MODIFIED:20220227T114451Z
UID:3093-1649874600-1649881800@www.debbymaziarz.com.au
SUMMARY:Grant Writing Workshop: Hobsons Bay Recovery and Reconnection
DESCRIPTION:Are you thinking about applying for a Make it Happen – Hobsons Bay Recovery and Reconnection grant? Join expert grant writer Debby Maziarz online via Zoom to learn how to get the most out of your grant application and have a greater chance of success. \nAny questions about the workshop – please contact grants@hobsonsbay.vic.gov.au \nFor more information and to book please click here.
URL:https://www.debbymaziarz.com.au/workshop/grant-writing-workshop-hobsons-bay-recovery-and-reconnection-3/
LOCATION:Online\, Australia
END:VEVENT
BEGIN:VEVENT
DTSTART;TZID=UTC:20220414T180000
DTEND;TZID=UTC:20220414T200000
DTSTAMP:20260423T170058
CREATED:20220227T114653Z
LAST-MODIFIED:20220227T114653Z
UID:3094-1649959200-1649966400@www.debbymaziarz.com.au
SUMMARY:Grant Planning Workshop: Hobsons Bay Recovery and Reconnection
DESCRIPTION:Are you still forming an idea or developing a project for a grant and need some support? Come along to this session.\nIn this workshop you will learn some basic project planning tips and workshop ideas to progress your project to the next stage with other participants and support from expert community ideas facilitator and grant writer Debby Maziarz. \nBring your initial idea or area of interest to the session. \nAny questions about the workshop – please contact grants@hobsonsbay.vic.gov.au \nFor more information and to book please click here.
URL:https://www.debbymaziarz.com.au/workshop/grant-planning-workshop-hobsons-bay-recovery-and-reconnection-2/
LOCATION:Online\, Australia
END:VEVENT
BEGIN:VEVENT
DTSTART;TZID=UTC:20220420T100000
DTEND;TZID=UTC:20220420T120000
DTSTAMP:20260423T170058
CREATED:20220321T061808Z
LAST-MODIFIED:20220321T061808Z
UID:3102-1650448800-1650456000@www.debbymaziarz.com.au
SUMMARY:Sustaining your Arts Practice: Time and Money
DESCRIPTION:Join this deep dive workshop program for artists and creatives\, offering simple tools and principles about sustaining a creative practice. Time and Money will explore: \n\nWhat’s your money story?\nHow much should you get paid?\nSetting revenue goals\nTracking time\nFinding your team\n\nThis is an interactive workshop and conversation. You will be invited to share thoughts\, insights\, stories and respond to prompts and exercises individually and in small working groups. This session will be hosted online via Zoom. \nIf you have any queries about this session\, including access requirements\, please contact Student Experience via fineartsmusic-enrichment@unimelb.edu.au \nFor more information and to register click here.
URL:https://www.debbymaziarz.com.au/workshop/sustaining-your-arts-practice-time-and-money/
LOCATION:Online\, Australia
END:VEVENT
BEGIN:VEVENT
DTSTART;TZID=UTC:20220420T180000
DTEND;TZID=UTC:20220420T203000
DTSTAMP:20260423T170058
CREATED:20220417T132621Z
LAST-MODIFIED:20220417T132621Z
UID:3143-1650477600-1650486600@www.debbymaziarz.com.au
SUMMARY:Project Planning and Design Workshop - Yarra Ranges Shire Council
DESCRIPTION:An interactive workshop full of simple tools and principles to help participants define a project\, including its scope and desired outcomes in preparation for approaching funding bodies and partners. \nTopics include: \n\nShifting from an idea to a project\nUnderstanding the project life cycle\nWorking through the ‘Project Planning Tool’\nUnderstanding what resources you have and need\nTips and tricks for managing your project\n\nFor more information and to book click here.
URL:https://www.debbymaziarz.com.au/workshop/project-planning-and-design-workshop-yarra-ranges-shire-council/
LOCATION:Online\, Australia
ORGANIZER;CN="Yarra%20Ranges%20Shire%20Council":MAILTO:mail@yarraranges.vic.gov.au
END:VEVENT
BEGIN:VEVENT
DTSTART;TZID=UTC:20220421T180000
DTEND;TZID=UTC:20220421T200000
DTSTAMP:20260423T170058
CREATED:20220410T131506Z
LAST-MODIFIED:20220410T131506Z
UID:3130-1650564000-1650571200@www.debbymaziarz.com.au
SUMMARY:Grant Writing Workshop: Suburban Rail Loop Community Projects Fund
DESCRIPTION:Join expert grant writer and facilitator Debby Maziarz to build your understanding of the grant writing process. This interactive workshop will focus on exploring your ideas and developing projects in preparation for approaching funding bodies and partners. \nIncludes: \n\nFinding the clarity (your project)\nEligibility\nAddressing the assessment criteria\nWriting the 100 word grab\nAnswering the questions in the application form\nBuilding a project budget\n\nPlease note: This is a general grant writing workshop for people interested in applying for a SRL Community Projects Fund Community Support Grant. Reference will be made to the SRL Community Projects Fund (guidelines and application form) however this is not an information session about SRL East or the SRL Community Projects Fund. \nTo find out more about the program or the grant writing workshops contact: contact@srla.vic.gov.au. Register online here.
URL:https://www.debbymaziarz.com.au/workshop/grant-writing-workshop-suburban-rail-loop-community-projects-fund-3/
LOCATION:Online\, Australia
END:VEVENT
BEGIN:VEVENT
DTSTART;TZID=UTC:20220427T100000
DTEND;TZID=UTC:20220427T120000
DTSTAMP:20260423T170058
CREATED:20220410T131552Z
LAST-MODIFIED:20220410T131552Z
UID:3132-1651053600-1651060800@www.debbymaziarz.com.au
SUMMARY:Grant Writing Workshop: Suburban Rail Loop Community Projects Fund
DESCRIPTION:Join expert grant writer and facilitator Debby Maziarz to build your understanding of the grant writing process. This interactive workshop will focus on exploring your ideas and developing projects in preparation for approaching funding bodies and partners. \nIncludes: \n\nFinding the clarity (your project)\nEligibility\nAddressing the assessment criteria\nWriting the 100 word grab\nAnswering the questions in the application form\nBuilding a project budget\n\nPlease note: This is a general grant writing workshop for people interested in applying for a SRL Community Projects Fund Community Support Grant. Reference will be made to the SRL Community Projects Fund (guidelines and application form) however this is not an information session about SRL East or the SRL Community Projects Fund. \nTo find out more about the program or the grant writing workshops contact: contact@srla.vic.gov.au. Register online here.
URL:https://www.debbymaziarz.com.au/workshop/grant-writing-workshop-suburban-rail-loop-community-projects-fund-4/
LOCATION:Online\, Australia
END:VEVENT
BEGIN:VEVENT
DTSTART;TZID=UTC:20220428T093000
DTEND;TZID=UTC:20220428T163000
DTSTAMP:20260423T170058
CREATED:20220422T065417Z
LAST-MODIFIED:20220422T065417Z
UID:3145-1651138200-1651163400@www.debbymaziarz.com.au
SUMMARY:Aerie Expert-in-residence
DESCRIPTION:Do you have big ideas or\, smalls ones\, that need some help to get off the ground? \n\n\n\n\n\n\nDebby is here to talk to you about how you might be able to get those ideas going with the economical support you might need. There are many ways to think about financing your creative practice\, so here’s a chance to talk to a professional about how you might tackle this tricky landscape. \nDebby is an arts leader and creative entrepreneur who mentors artists\, organisations and communities to create solid plans for resourcing their work. Renowned for unearthing innovative and ‘fundable’ ideas\, Debby is driven to challenge the mindset that stops superstars from excelling. She’s also got a great track record in sourcing funds and finding alternate economies in the arts. \nBook in your one-on-one chat with Debby Maziarz today! These sessions are free for all aerie members. If you are not a member but would like to book in please contact the aerie.
URL:https://www.debbymaziarz.com.au/workshop/aerie-expert-in-residence/
LOCATION:Online\, Australia
END:VEVENT
END:VCALENDAR