BEGIN:VCALENDAR
VERSION:2.0
PRODID:-//Debby Maziarz Productions - ECPv6.0.13.1//NONSGML v1.0//EN
CALSCALE:GREGORIAN
METHOD:PUBLISH
X-ORIGINAL-URL:https://www.debbymaziarz.com.au
X-WR-CALDESC:Events for Debby Maziarz Productions
REFRESH-INTERVAL;VALUE=DURATION:PT1H
X-Robots-Tag:noindex
X-PUBLISHED-TTL:PT1H
BEGIN:VTIMEZONE
TZID:Australia/Melbourne
BEGIN:STANDARD
TZOFFSETFROM:+1100
TZOFFSETTO:+1000
TZNAME:AEST
DTSTART:20220402T160000
END:STANDARD
BEGIN:DAYLIGHT
TZOFFSETFROM:+1000
TZOFFSETTO:+1100
TZNAME:AEDT
DTSTART:20221001T160000
END:DAYLIGHT
TZID:UTC
BEGIN:STANDARD
TZOFFSETFROM:+0000
TZOFFSETTO:+0000
TZNAME:UTC
DTSTART:20220101T000000
END:STANDARD
END:VTIMEZONE
BEGIN:VEVENT
DTSTART;TZID=Australia/Melbourne:20220707T180000
DTEND;TZID=Australia/Melbourne:20220707T200000
DTSTAMP:20260423T122730
CREATED:20220704T063326Z
LAST-MODIFIED:20220704T063326Z
UID:3170-1657216800-1657224000@www.debbymaziarz.com.au
SUMMARY:Grants and Grant-writing: Gardening Together Again
DESCRIPTION:This online workshop will be led by Debby Maziarz\, community development practitioner and grant application expert. Debby will cover the basics of grant applications and all you need to know up until submission. This workshop will be interactive and packed full of expert knowledge. Simone Broekman\, from Cultivating Community\, will share sources for grants/funding within the community that you can explore in future. \nWhether you’re new to grant applications\, or have submitted grants in the past\, you are sure to learn something new. \nThis workshop will be recorded so anyone who has registered but can’t attend at the last minute will be sent a copy of the video to watch later. \nFor more information and to book please click here.
URL:https://www.debbymaziarz.com.au/workshop/grants-and-grant-writing-gardening-together-again/
LOCATION:Online\, Australia
END:VEVENT
BEGIN:VEVENT
DTSTART;TZID=Australia/Melbourne:20220712T100000
DTEND;TZID=Australia/Melbourne:20220712T120000
DTSTAMP:20260423T122730
CREATED:20220706T064931Z
LAST-MODIFIED:20220708T112655Z
UID:3176-1657620000-1657627200@www.debbymaziarz.com.au
SUMMARY:Sunbury & Bulla Neighbourhood Fund: Grant Writing Workshops
DESCRIPTION:Improve your skills in writing grants (with a particular focus on the Sunbury & Bulla Neighbourhood Fund) \nThe workshop will walk you through the grant making process including: \n\nWriting the 50 – 100 word grab\n\n\nUnderstanding the assessment criteria\n\n\nWorking with partners\n\n\nResponding to questions in the application form\n\n\nBuilding a project budget for an application\n\nThe $2 million Sunbury & Bulla Neighbourhood Fund has been established by the Victorian Government to support local communities during the construction of the West Gate Tunnel. \nNot-for-profit groups can access this fund for projects that bring benefits to Sunbury and Bulla communities. \nFor more information and to book please click here.
URL:https://www.debbymaziarz.com.au/workshop/west-gate-neighbourhood-fund-grant-writing-workshops-6/
LOCATION:Hume Global Learning Centre\, 44 Macedon Street\, Sunbury\, State\, 3429\, Australia
END:VEVENT
BEGIN:VEVENT
DTSTART;TZID=UTC:20220713T180000
DTEND;TZID=UTC:20220713T200000
DTSTAMP:20260423T122730
CREATED:20220311T002412Z
LAST-MODIFIED:20220311T002412Z
UID:3096-1657735200-1657742400@www.debbymaziarz.com.au
SUMMARY:Starting a Small Business for Creative People: Getting Started
DESCRIPTION:Join this deep dive workshop for artists and creatives\, offering simple tools and principles about building a creative practice.\n\n\n\n\n\n\n\nDo you love being creative and have a particular skill or hobby that you have been considering taking further? This workshop is aimed specifically at starting a small creative business and will give you practical knowledge\, skills and techniques to help get you started and make it a success. \nHosted by Living & Learning Nillumbik. \nWorkshop 1 – Sustaining your Arts Practice: Getting started (or picking up momentum) \nGetting started (or picking up momentum) will explore: \n• Structures & business models \n• Systems & processes \n• Mission statement \nThese workshops will be offered in person at the Eltham Living & Learning Centre and online via Zoom. Please indicate your preference when you register. \n\n\n\n\nFor more information and to book online click here.
URL:https://www.debbymaziarz.com.au/workshop/starting-a-small-business-for-creative-people-getting-started/
LOCATION:DMP Resources
ORGANIZER;CN="Nillumbik%20Shire%20Council":MAILTO:nillumbik@nillumbik.vic.gov.au
END:VEVENT
BEGIN:VEVENT
DTSTART;TZID=Australia/Melbourne:20220714T180000
DTEND;TZID=Australia/Melbourne:20220714T200000
DTSTAMP:20260423T122730
CREATED:20220706T065020Z
LAST-MODIFIED:20220708T112626Z
UID:3179-1657821600-1657828800@www.debbymaziarz.com.au
SUMMARY:Sunbury & Bulla Neighbourhood Fund: Grant Writing Workshops
DESCRIPTION:Improve your skills in writing grants (with a particular focus on the Sunbury & Bulla Neighbourhood Fund) \nThe workshop will walk you through the grant making process including: \n\nWriting the 50 – 100 word grab\n\n\nUnderstanding the assessment criteria\n\n\nWorking with partners\n\n\nResponding to questions in the application form\n\n\nBuilding a project budget for an application\n\nThe $2 million Sunbury & Bulla Neighbourhood Fund has been established by the Victorian Government to support local communities during the construction of the West Gate Tunnel. \nNot-for-profit groups can access this fund for projects that bring benefits to Sunbury and Bulla communities. \nFor more information and to book please click here.
URL:https://www.debbymaziarz.com.au/workshop/west-gate-neighbourhood-fund-grant-writing-workshops-7/
LOCATION:Online\, Australia
END:VEVENT
BEGIN:VEVENT
DTSTART;TZID=Australia/Melbourne:20220715T100000
DTEND;TZID=Australia/Melbourne:20220715T120000
DTSTAMP:20260423T122730
CREATED:20220706T065207Z
LAST-MODIFIED:20220708T112606Z
UID:3181-1657879200-1657886400@www.debbymaziarz.com.au
SUMMARY:Sunbury & Bulla Neighbourhood Fund: Grant Writing Workshops
DESCRIPTION:Improve your skills in writing grants (with a particular focus on the Sunbury & Bulla Neighbourhood Fund) \nThe workshop will walk you through the grant making process including: \n\nWriting the 50 – 100 word grab\n\n\nUnderstanding the assessment criteria\n\n\nWorking with partners\n\n\nResponding to questions in the application form\n\n\nBuilding a project budget for an application\n\nThe $2 million Sunbury & Bulla Neighbourhood Fund has been established by the Victorian Government to support local communities during the construction of the West Gate Tunnel. \nNot-for-profit groups can access this fund for projects that bring benefits to Sunbury and Bulla communities. \nFor more information and to book please click here.
URL:https://www.debbymaziarz.com.au/workshop/west-gate-neighbourhood-fund-grant-writing-workshops-8/
LOCATION:Jack McKenzie Community Centre\, 11 Green Street\, Bulla\, VIC\, 3428\, Australia
END:VEVENT
BEGIN:VEVENT
DTSTART;TZID=UTC:20220718T173000
DTEND;TZID=UTC:20220718T193000
DTSTAMP:20260423T122730
CREATED:20220715T082103Z
LAST-MODIFIED:20220715T082103Z
UID:3200-1658165400-1658172600@www.debbymaziarz.com.au
SUMMARY:Effective Grant Writing Workshop - North East Community Fund
DESCRIPTION:This interactive and hands-on workshop will focus on transforming your ideas into fundable concepts and will walk you step by step through the grant making process (with a focus on the North East Community Fund). \nDuring this online session you’ll learn about: \n\nthe grant writing process\nwhere to find the money for your idea\nwriting a 50-150 word grab\nthe North East Community Fund assessment criteria\nhow to respond to the questions in the application form\nbuilding a project budget for a grant application.\n\nThese workshops will be hosted online using Zoom and will be recorded. \nFor more information and to book click here.
URL:https://www.debbymaziarz.com.au/workshop/effective-grant-writing-workshop-north-east-community-fund/
LOCATION:Online\, Australia
END:VEVENT
BEGIN:VEVENT
DTSTART;TZID=UTC:20220719T100000
DTEND;TZID=UTC:20220719T120000
DTSTAMP:20260423T122730
CREATED:20220715T082215Z
LAST-MODIFIED:20220715T082230Z
UID:3203-1658224800-1658232000@www.debbymaziarz.com.au
SUMMARY:Effective Grant Writing Workshop - North East Community Fund
DESCRIPTION:This interactive and hands-on workshop will focus on transforming your ideas into fundable concepts and will walk you step by step through the grant making process (with a focus on the North East Community Fund). \nDuring this online session you’ll learn about: \n\nthe grant writing process\nwhere to find the money for your idea\nwriting a 50-150 word grab\nthe North East Community Fund assessment criteria\nhow to respond to the questions in the application form\nbuilding a project budget for a grant application.\n\nThese workshops will be hosted online using Zoom and will be recorded. \nFor more information and to book click here.
URL:https://www.debbymaziarz.com.au/workshop/effective-grant-writing-workshop-north-east-community-fund-2/
LOCATION:Online\, Australia
END:VEVENT
BEGIN:VEVENT
DTSTART;TZID=UTC:20220720T180000
DTEND;TZID=UTC:20220720T200000
DTSTAMP:20260423T122730
CREATED:20220311T002535Z
LAST-MODIFIED:20220311T002535Z
UID:3097-1658340000-1658347200@www.debbymaziarz.com.au
SUMMARY:Starting a Small Business for Creative People: Time and Money
DESCRIPTION:Join this deep dive workshop for artists and creatives\, offering simple tools and principles about building a creative practice.\n\n\n\n\n\n\n\nDo you love being creative and have a particular skill or hobby that you have been considering taking further? This workshop is aimed specifically at starting a small creative business and will give you practical knowledge\, skills and techniques to help get you started and make it a success. \nHosted by Living & Learning Nillumbik. \nWorkshop 2 – Sustaining your Arts Practice: Time and Money \nTime and Money will explore: \n• What’s your money story? \n• How much should you get paid? \n• Setting revenue goals \n• Tracking time \n• Finding your dream team \nThese workshops will be offered in person at the Eltham Living & Learning Centre and online via Zoom. Please indicate your preference when you register. \n\n\n\n\nFor more information and to book online click here.
URL:https://www.debbymaziarz.com.au/workshop/starting-a-small-business-for-creative-people-time-and-money/
LOCATION:DMP Resources
ORGANIZER;CN="Nillumbik%20Shire%20Council":MAILTO:nillumbik@nillumbik.vic.gov.au
END:VEVENT
BEGIN:VEVENT
DTSTART;TZID=UTC:20220725T100000
DTEND;TZID=UTC:20220725T120000
DTSTAMP:20260423T122730
CREATED:20220715T082505Z
LAST-MODIFIED:20220715T082505Z
UID:3207-1658743200-1658750400@www.debbymaziarz.com.au
SUMMARY:Effective Grant Writing Workshop - North East Community Fund
DESCRIPTION:This interactive and hands-on workshop will focus on transforming your ideas into fundable concepts and will walk you step by step through the grant making process (with a focus on the North East Community Fund). \nDuring this online session you’ll learn about: \n\nthe grant writing process\nwhere to find the money for your idea\nwriting a 50-150 word grab\nthe North East Community Fund assessment criteria\nhow to respond to the questions in the application form\nbuilding a project budget for a grant application.\n\nThese workshops will be hosted online using Zoom and will be recorded. \nFor more information and to book click here.
URL:https://www.debbymaziarz.com.au/workshop/effective-grant-writing-workshop-north-east-community-fund-4/
LOCATION:Online\, Australia
END:VEVENT
BEGIN:VEVENT
DTSTART;TZID=UTC:20220727T180000
DTEND;TZID=UTC:20220727T200000
DTSTAMP:20260423T122730
CREATED:20220311T002652Z
LAST-MODIFIED:20220727T065516Z
UID:3098-1658944800-1658952000@www.debbymaziarz.com.au
SUMMARY:Starting a Small Business for Creative People: Making a Plan
DESCRIPTION:Join this deep dive workshop for artists and creatives\, offering simple tools and principles about building a creative practice.\n\n\n\n\n\n\n\nDo you love being creative and have a particular skill or hobby that you have been considering taking further? This workshop is aimed specifically at starting a small creative business and will give you practical knowledge\, skills and techniques to help get you started and make it a success. \nHosted by Living & Learning Nillumbik. \nWorkshop 3 – Sustaining your Arts Practice: Making a Plan \nMaking a Plan will explore: \n• Setting intentions \n• Setting personal\, professional\, and artistic goals \n• Creative wellbeing \nThese workshops will be offered in person at the Eltham Living & Learning Centre and online via Zoom. Please indicate your preference when you register. \n\n\n\n\nFor more information and to book online click here.
URL:https://www.debbymaziarz.com.au/workshop/starting-a-small-business-for-creative-people-making-a-plan/
LOCATION:DMP Resources
ORGANIZER;CN="Nillumbik%20Shire%20Council":MAILTO:nillumbik@nillumbik.vic.gov.au
END:VEVENT
END:VCALENDAR