BEGIN:VCALENDAR
VERSION:2.0
PRODID:-//Debby Maziarz Productions - ECPv6.0.13.1//NONSGML v1.0//EN
CALSCALE:GREGORIAN
METHOD:PUBLISH
X-ORIGINAL-URL:https://www.debbymaziarz.com.au
X-WR-CALDESC:Events for Debby Maziarz Productions
REFRESH-INTERVAL;VALUE=DURATION:PT1H
X-Robots-Tag:noindex
X-PUBLISHED-TTL:PT1H
BEGIN:VTIMEZONE
TZID:Australia/Melbourne
BEGIN:STANDARD
TZOFFSETFROM:+1100
TZOFFSETTO:+1000
TZNAME:AEST
DTSTART:20220402T160000
END:STANDARD
BEGIN:DAYLIGHT
TZOFFSETFROM:+1000
TZOFFSETTO:+1100
TZNAME:AEDT
DTSTART:20221001T160000
END:DAYLIGHT
TZID:UTC
BEGIN:STANDARD
TZOFFSETFROM:+0000
TZOFFSETTO:+0000
TZNAME:UTC
DTSTART:20220101T000000
END:STANDARD
END:VTIMEZONE
BEGIN:VEVENT
DTSTART;TZID=Australia/Melbourne:20220801T180000
DTEND;TZID=Australia/Melbourne:20220801T203000
DTSTAMP:20260423T111000
CREATED:20220727T064903Z
LAST-MODIFIED:20220727T064903Z
UID:3210-1659376800-1659385800@www.debbymaziarz.com.au
SUMMARY:West Gate Neighbourhood Fund: Grant Writing Workshops
DESCRIPTION:The West Gate Neighbourhood Fund is a $10 million government fund established to support communities in Melbourne’s inner west during the construction of the West Gate Tunnel Project (WGTP). \nThe fund allows not-for-profit groups to access support for projects that bring people together and build community capacity. \nThe second round of the West Gate Neighbourhood Fund Grants program is now open for applications. \nGrants of up to $100\,000 are available for incorporated not-for-profit community groups in the Hobsons Bay or Maribyrnong council areas. \nWe are looking for projects that celebrate: \n\nheritage\,\nhistory or diversity\,\nfocus on arts and culture\,\nemphasise learning and development\, or\nenable greater participation of community members.\n\nHobsons Bay City Council and Maribyrnong City Council are assisting with this program under the direction of WGTP\, Major Transport Infrastructure Authority (MTIA) by making available their grants application system\, and by entering into further agreements with successful applicants. \nFor more information and to book please click here.
URL:https://www.debbymaziarz.com.au/workshop/west-gate-neighbourhood-fund-grant-writing-workshops-9/
LOCATION:Online\, Australia
END:VEVENT
BEGIN:VEVENT
DTSTART;TZID=Australia/Melbourne:20220802T100000
DTEND;TZID=Australia/Melbourne:20220802T120000
DTSTAMP:20260423T111000
CREATED:20220727T065038Z
LAST-MODIFIED:20220727T065038Z
UID:3212-1659434400-1659441600@www.debbymaziarz.com.au
SUMMARY:West Gate Neighbourhood Fund: Grant Writing Workshops
DESCRIPTION:The West Gate Neighbourhood Fund is a $10 million government fund established to support communities in Melbourne’s inner west during the construction of the West Gate Tunnel Project (WGTP). \nThe fund allows not-for-profit groups to access support for projects that bring people together and build community capacity. \nThe second round of the West Gate Neighbourhood Fund Grants program is now open for applications. \nGrants of up to $100\,000 are available for incorporated not-for-profit community groups in the Hobsons Bay or Maribyrnong council areas. \nWe are looking for projects that celebrate: \n\nheritage\,\nhistory or diversity\,\nfocus on arts and culture\,\nemphasise learning and development\, or\nenable greater participation of community members.\n\nHobsons Bay City Council and Maribyrnong City Council are assisting with this program under the direction of WGTP\, Major Transport Infrastructure Authority (MTIA) by making available their grants application system\, and by entering into further agreements with successful applicants. \nFor more information and to book please click here.
URL:https://www.debbymaziarz.com.au/workshop/west-gate-neighbourhood-fund-grant-writing-workshops-10/
LOCATION:Walker Close Community Hub\, 180 Millers Rd\, Altona North\, Vic\, 3025\, Australia
END:VEVENT
BEGIN:VEVENT
DTSTART;TZID=UTC:20220802T173000
DTEND;TZID=UTC:20220802T193000
DTSTAMP:20260423T111000
CREATED:20220715T082249Z
LAST-MODIFIED:20220715T082309Z
UID:3205-1659461400-1659468600@www.debbymaziarz.com.au
SUMMARY:Effective Grant Writing Workshop - North East Community Fund
DESCRIPTION:This interactive and hands-on workshop will focus on transforming your ideas into fundable concepts and will walk you step by step through the grant making process (with a focus on the North East Community Fund). \nDuring this online session you’ll learn about: \n\nthe grant writing process\nwhere to find the money for your idea\nwriting a 50-150 word grab\nthe North East Community Fund assessment criteria\nhow to respond to the questions in the application form\nbuilding a project budget for a grant application.\n\nThese workshops will be hosted online using Zoom and will be recorded. \nFor more information and to book click here.
URL:https://www.debbymaziarz.com.au/workshop/effective-grant-writing-workshop-north-east-community-fund-3/
LOCATION:Online\, Australia
END:VEVENT
BEGIN:VEVENT
DTSTART;TZID=Australia/Melbourne:20220804T100000
DTEND;TZID=Australia/Melbourne:20220804T120000
DTSTAMP:20260423T111000
CREATED:20220727T065151Z
LAST-MODIFIED:20220727T065151Z
UID:3215-1659607200-1659614400@www.debbymaziarz.com.au
SUMMARY:West Gate Neighbourhood Fund: Grant Writing Workshops
DESCRIPTION:The West Gate Neighbourhood Fund is a $10 million government fund established to support communities in Melbourne’s inner west during the construction of the West Gate Tunnel Project (WGTP). \nThe fund allows not-for-profit groups to access support for projects that bring people together and build community capacity. \nThe second round of the West Gate Neighbourhood Fund Grants program is now open for applications. \nGrants of up to $100\,000 are available for incorporated not-for-profit community groups in the Hobsons Bay or Maribyrnong council areas. \nWe are looking for projects that celebrate: \n\nheritage\,\nhistory or diversity\,\nfocus on arts and culture\,\nemphasise learning and development\, or\nenable greater participation of community members.\n\nHobsons Bay City Council and Maribyrnong City Council are assisting with this program under the direction of WGTP\, Major Transport Infrastructure Authority (MTIA) by making available their grants application system\, and by entering into further agreements with successful applicants. \nFor more information and to book please click here.
URL:https://www.debbymaziarz.com.au/workshop/west-gate-neighbourhood-fund-grant-writing-workshops-11/
LOCATION:Newport Community Hub\, 13/15 Mason St\, Newport\, Vic\, 3015\, Australia
END:VEVENT
BEGIN:VEVENT
DTSTART;TZID=Australia/Melbourne:20220805T100000
DTEND;TZID=Australia/Melbourne:20220805T120000
DTSTAMP:20260423T111000
CREATED:20220727T065303Z
LAST-MODIFIED:20220727T065303Z
UID:3218-1659693600-1659700800@www.debbymaziarz.com.au
SUMMARY:West Gate Neighbourhood Fund: Grant Writing Workshops
DESCRIPTION:The West Gate Neighbourhood Fund is a $10 million government fund established to support communities in Melbourne’s inner west during the construction of the West Gate Tunnel Project (WGTP). \nThe fund allows not-for-profit groups to access support for projects that bring people together and build community capacity. \nThe second round of the West Gate Neighbourhood Fund Grants program is now open for applications. \nGrants of up to $100\,000 are available for incorporated not-for-profit community groups in the Hobsons Bay or Maribyrnong council areas. \nWe are looking for projects that celebrate: \n\nheritage\,\nhistory or diversity\,\nfocus on arts and culture\,\nemphasise learning and development\, or\nenable greater participation of community members.\n\nHobsons Bay City Council and Maribyrnong City Council are assisting with this program under the direction of WGTP\, Major Transport Infrastructure Authority (MTIA) by making available their grants application system\, and by entering into further agreements with successful applicants. \nFor more information and to book please click here.
URL:https://www.debbymaziarz.com.au/workshop/west-gate-neighbourhood-fund-grant-writing-workshops-12/
LOCATION:Yarraville Community Centre\, 59 Francis St\, Yarraville\, Vic\, 3015\, Australia
END:VEVENT
BEGIN:VEVENT
DTSTART;TZID=Australia/Melbourne:20220810T180000
DTEND;TZID=Australia/Melbourne:20220810T203000
DTSTAMP:20260423T111000
CREATED:20220704T053122Z
LAST-MODIFIED:20220704T053252Z
UID:3168-1660154400-1660163400@www.debbymaziarz.com.au
SUMMARY:Grant Writing for Creatives - City of Port Phillip
DESCRIPTION:This free grant writing training session will share: \n\npractical and transferable ways to approach grant writing for arts and cultural projects\ndeveloping and communicating your project idea and your project plan\ndeveloping budgets and funding strategy\nworking with an auspice organisation\nfinding project partners\npresenting support material\nevaluating your project\nmore information about Port Phillip 2022/23 Cultural Development Fund grants.\n\nFor more information and to book please click here.
URL:https://www.debbymaziarz.com.au/workshop/grant-writing-for-creatives-city-of-port-phillip/
LOCATION:Online\, Australia
ORGANIZER;CN="City%20of%20Port%20Phillip":MAILTO:volunteer@portphillip.vic.gov.au
END:VEVENT
BEGIN:VEVENT
DTSTART;TZID=UTC:20220813T140000
DTEND;TZID=UTC:20220813T160000
DTSTAMP:20260423T111000
CREATED:20220715T053953Z
LAST-MODIFIED:20220715T053953Z
UID:3193-1660399200-1660406400@www.debbymaziarz.com.au
SUMMARY:Transforming Ideas Into Fundable Projects Part 1: Project Planning and Design
DESCRIPTION:This is a free two-part series for western region artists and creatives that focuses on finding clarity around a project idea and honing it into a strong grant application. \nPart 1: Project Planning and Design\nAn interactive workshop full of simple tools and principles to help participants define a project\, including its scope and desired outcomes in preparation for approaching funding bodies and partners. \nTopics include: \n\nShifting from an idea to a project\nUnderstanding the project life cycle\nWorking through the ‘Project Planning Tool’\nUnderstanding what resources\, you have and need\nTips and tricks for managing your project\n\nFor more information and to book please click here.
URL:https://www.debbymaziarz.com.au/workshop/transforming-ideas-into-fundable-projects-part-1-project-planning-and-design/
LOCATION:Online\, Australia
END:VEVENT
BEGIN:VEVENT
DTSTART;TZID=UTC:20220820T140000
DTEND;TZID=UTC:20220820T160000
DTSTAMP:20260423T111000
CREATED:20220715T054120Z
LAST-MODIFIED:20220715T054141Z
UID:3195-1661004000-1661011200@www.debbymaziarz.com.au
SUMMARY:Transforming Ideas Into Fundable Projects Part 2: Grant Writing for Creatives
DESCRIPTION:This is a free two-part series for western region artists and creatives that focuses on finding clarity around a project idea and honing it into a strong grant application. \nPart 2: Grant Writing for Creatives\nThis fun and hands-on workshop will walk participants step by step through the grant making process from project idea through to acquittal. Includes: \n\nThe grant making cycle\nWhere to find the money\nWriting a killer 50-word grab\nUnderstanding the assessment criteria\nWorking with partners\nAnswering the questions in the application form\nBuilding a project budget (for a grant application)\nSupport material\nCompleting the acquittal report\n\nFor more information and to book please click here.
URL:https://www.debbymaziarz.com.au/workshop/transforming-ideas-into-fundable-projects-part-2-grant-writing-for-creatives/
LOCATION:Online\, Australia
END:VEVENT
END:VCALENDAR