BEGIN:VCALENDAR
VERSION:2.0
PRODID:-//Debby Maziarz Productions - ECPv6.0.13.1//NONSGML v1.0//EN
CALSCALE:GREGORIAN
METHOD:PUBLISH
X-WR-CALNAME:Debby Maziarz Productions
X-ORIGINAL-URL:https://www.debbymaziarz.com.au
X-WR-CALDESC:Events for Debby Maziarz Productions
REFRESH-INTERVAL;VALUE=DURATION:PT1H
X-Robots-Tag:noindex
X-PUBLISHED-TTL:PT1H
BEGIN:VTIMEZONE
TZID:UTC
BEGIN:STANDARD
TZOFFSETFROM:+0000
TZOFFSETTO:+0000
TZNAME:UTC
DTSTART:20220101T000000
END:STANDARD
TZID:Australia/Melbourne
BEGIN:STANDARD
TZOFFSETFROM:+1100
TZOFFSETTO:+1000
TZNAME:AEST
DTSTART:20220402T160000
END:STANDARD
BEGIN:DAYLIGHT
TZOFFSETFROM:+1000
TZOFFSETTO:+1100
TZNAME:AEDT
DTSTART:20221001T160000
END:DAYLIGHT
END:VTIMEZONE
BEGIN:VEVENT
DTSTART;TZID=UTC:20220906T180000
DTEND;TZID=UTC:20220906T200000
DTSTAMP:20260423T092542
CREATED:20220905T112448Z
LAST-MODIFIED:20220905T112448Z
UID:3232-1662487200-1662494400@www.debbymaziarz.com.au
SUMMARY:Transforming Ideas Into Fundable Projects Part 1: Project Planning and Design
DESCRIPTION:Two-part online series for creatives from the music sector within Hobsons Bay. \n\nPart 1: Project Planning and Design\nAn interactive workshop full of simple tools and principles to help participants define a project\, including its scope and desired outcomes in preparation for approaching funding bodies and partners. \nTopics include: \n\nShifting from an idea to a project\nUnderstanding the project life cycle\nWorking through the ‘Project Planning Tool’\nUnderstanding what resources\, you have and need\nTips and tricks for managing your project\n\nFor more information and to book please click here.
URL:https://www.debbymaziarz.com.au/workshop/transforming-ideas-into-fundable-projects-part-1-project-planning-and-design-2/
LOCATION:Online\, Australia
END:VEVENT
BEGIN:VEVENT
DTSTART;TZID=UTC:20220907T180000
DTEND;TZID=UTC:20220907T200000
DTSTAMP:20260423T092542
CREATED:20220906T063122Z
LAST-MODIFIED:20220906T063122Z
UID:3250-1662573600-1662580800@www.debbymaziarz.com.au
SUMMARY:Starting a Small Business for Creative People: 1 Getting started (or picking up momentum)
DESCRIPTION:Do you love being creative and have a particular skill or hobby that you have been considering taking further? This workshop is aimed specifically at starting a small creative business and will give you practical knowledge\, skills and techniques to help get you started and make it a success. \nHosted by Living & Learning Nillumbik. \nWorkshop 1 – Sustaining your Arts Practice: Getting started (or picking up momentum) \nGetting started (or picking up momentum) will explore: \n\nStructures & business models\nSystems & processes\nMission statement\n\nFor more information and to book click here.
URL:https://www.debbymaziarz.com.au/workshop/starting-a-small-business-for-creative-people-1-getting-started-or-picking-up-momentum/
LOCATION:Eltham Neighbourhood House\, 739 Main Road\, Eltham\, Vic\, 3095\, Australia
ORGANIZER;CN="Nillumbik%20Shire%20Council":MAILTO:nillumbik@nillumbik.vic.gov.au
END:VEVENT
BEGIN:VEVENT
DTSTART;TZID=UTC:20220914T180000
DTEND;TZID=UTC:20220914T200000
DTSTAMP:20260423T092542
CREATED:20220906T063249Z
LAST-MODIFIED:20220906T063249Z
UID:3252-1663178400-1663185600@www.debbymaziarz.com.au
SUMMARY:Starting a Small Business for Creative People: 2 Time and Money
DESCRIPTION:Do you love being creative and have a particular skill or hobby that you have been considering taking further? This workshop is aimed specifically at starting a small creative business and will give you practical knowledge\, skills and techniques to help get you started and make it a success. \nHosted by Living & Learning Nillumbik. \nWorkshop 2 – Sustaining your Arts Practice: Time and Money \nTime and Money will explore: \n\nWhat’s your money story?\nHow much should you get paid?\nSetting revenue goals\nTracking time\nFinding your dream team\n\nFor more information and to book click here.
URL:https://www.debbymaziarz.com.au/workshop/starting-a-small-business-for-creative-people-2-time-and-money/
LOCATION:Eltham Neighbourhood House\, 739 Main Road\, Eltham\, Vic\, 3095\, Australia
ORGANIZER;CN="Nillumbik%20Shire%20Council":MAILTO:nillumbik@nillumbik.vic.gov.au
END:VEVENT
BEGIN:VEVENT
DTSTART;TZID=UTC:20220915T180000
DTEND;TZID=UTC:20220915T200000
DTSTAMP:20260423T092542
CREATED:20220905T113424Z
LAST-MODIFIED:20220905T113424Z
UID:3236-1663264800-1663272000@www.debbymaziarz.com.au
SUMMARY:Effective Grant Writing Workshop - Moonee Valley City Council
DESCRIPTION:Moonee Valley City Council is currently offering funding through the Community Grants program to community groups\, organisations\, local businesses and artists. \nDo you have a great project idea that you just need some extra money to get started on? \nDo you want to know more about how grant programs work and how to increase your chances of funding success? \nJoin our free workshop run by grants expert Debby Maziarz! \nThis fun and hands-on workshop will focus on transforming your ideas into fundable concepts and will walk you step by step through the grant application process. \nTopics include: \n\nWhere to find the money\nWriting a killer 50-word grab\nBuilding a budget\nWorking with partners\nAnswering tricky questions\n\nFor more information and to book please click here.
URL:https://www.debbymaziarz.com.au/workshop/effective-grant-writing-workshop-moonee-valley-city-council/
LOCATION:Fleminton Pop Up – Debney’s Park\, Debneys Park\, Flemington\, Victoria\, 3031\, Australia
END:VEVENT
BEGIN:VEVENT
DTSTART;TZID=Australia/Melbourne:20220920T140000
DTEND;TZID=Australia/Melbourne:20220920T160000
DTSTAMP:20260423T092542
CREATED:20220905T114649Z
LAST-MODIFIED:20220905T114649Z
UID:3244-1663682400-1663689600@www.debbymaziarz.com.au
SUMMARY:Grant Writing Workshops for Creatives - City of Melbourne
DESCRIPTION:Debby Maziarz will be running grant writing workshops to provide artists with practical tips and advice about how to write a grant application. The workshops will be delivered via Zoom. Details on how to participate will be sent after you register. \nFor more information and to book please click here. \nCity of Melbourne’s 2022 Quick Response Grants program will open for applications at 9am on Monday 19 September 2022 and close at 5pm on Wednesday 12 October 2022. We strongly recommend that you review the guidelines and the application form prior to attending this workshop to ensure your time is used wisely. Refer to the website for details.
URL:https://www.debbymaziarz.com.au/workshop/grant-writing-workshops-for-creatives-city-of-melbourne/
LOCATION:Online\, Australia
END:VEVENT
BEGIN:VEVENT
DTSTART;TZID=UTC:20220920T180000
DTEND;TZID=UTC:20220920T200000
DTSTAMP:20260423T092542
CREATED:20220905T112634Z
LAST-MODIFIED:20220905T112634Z
UID:3234-1663696800-1663704000@www.debbymaziarz.com.au
SUMMARY:Transforming Ideas Into Fundable Projects Part 2: Grant Writing for Creatives
DESCRIPTION:Two-part online series for creatives from the music sector within Hobsons Bay. \nPart 2: Grant Writing for Creatives\nThis fun and hands-on workshop will walk participants step by step through the grant making process from project idea through to acquittal. Includes: \n\nThe grant making cycle\nWhere to find the money\nWriting a killer 50-word grab\nUnderstanding the assessment criteria\nWorking with partners\nAnswering the questions in the application form\nBuilding a project budget (for a grant application)\nSupport material\nCompleting the acquittal report\n\nFor more information and to book please click here.
URL:https://www.debbymaziarz.com.au/workshop/transforming-ideas-into-fundable-projects-part-2-grant-writing-for-creatives-2/
LOCATION:Online\, Australia
END:VEVENT
BEGIN:VEVENT
DTSTART;TZID=UTC:20220921T123000
DTEND;TZID=UTC:20220921T150000
DTSTAMP:20260423T092542
CREATED:20220905T113721Z
LAST-MODIFIED:20220905T113721Z
UID:3239-1663763400-1663772400@www.debbymaziarz.com.au
SUMMARY:Effective Grant Writing Workshop - Moonee Valley City Council
DESCRIPTION:Moonee Valley City Council is currently offering funding through the Community Grants program to community groups\, organisations\, local businesses and artists. \nDo you have a great project idea that you just need some extra money to get started on? \nDo you want to know more about how grant programs work and how to increase your chances of funding success? \nJoin our free workshop run by grants expert Debby Maziarz! \nThis fun and hands-on workshop will focus on transforming your ideas into fundable concepts and will walk you step by step through the grant application process. \nTopics include: \n\nWhere to find the money\nWriting a killer 50-word grab\nBuilding a budget\nWorking with partners\nAnswering tricky questions\n\nFor more information and to book please click here.
URL:https://www.debbymaziarz.com.au/workshop/effective-grant-writing-workshop-moonee-valley-city-council-2/
LOCATION:Council Chamber\, Moonee Valley City\, 9 Kellaway Avenue\, Moonee Ponds\, VIC\, 3039\, Australia
END:VEVENT
BEGIN:VEVENT
DTSTART;TZID=Australia/Melbourne:20220921T180000
DTEND;TZID=Australia/Melbourne:20220921T203000
DTSTAMP:20260423T092542
CREATED:20220905T115213Z
LAST-MODIFIED:20220905T115213Z
UID:3248-1663783200-1663792200@www.debbymaziarz.com.au
SUMMARY:Grant Writing Workshops for Creatives with Debby Maziarz & UB Lee - City of Melbourne
DESCRIPTION:Debby Maziarz and UB Lee will be running a grant writing workshop to provide CALD artists with advice about how to write a grant application. The workshops will be delivered via Zoom. Details on how to participate will be sent after you register. \nUB is a visual artist who works in many different forms\, printmaking\, installation\, video\, puppetry\, performance\, and community engagement. She leant these skills at Chugye University of Arts\, Korea. Since moving to Melbourne\, she has been initiating and facilitating collaborative arts projects. \nFor more information and to book please click here. \nCity of Melbourne’s 2022 Quick Response Grants program will open for applications at 9am on Monday 19 September 2022 and close at 5pm on Wednesday 12 October 2022. We strongly recommend that you review the guidelines and the application form prior to attending this workshop to ensure your time is used wisely. Refer to the website for details.
URL:https://www.debbymaziarz.com.au/workshop/grant-writing-workshops-for-creatives-with-debby-maziarz-ub-lee-city-of-melbourne/
LOCATION:Online\, Australia
END:VEVENT
BEGIN:VEVENT
DTSTART;TZID=UTC:20220922T100000
DTEND;TZID=UTC:20220922T123000
DTSTAMP:20260423T092542
CREATED:20220905T114001Z
LAST-MODIFIED:20220905T114001Z
UID:3242-1663840800-1663849800@www.debbymaziarz.com.au
SUMMARY:Effective Grant Writing Workshop - Moonee Valley City Council
DESCRIPTION:Moonee Valley City Council is currently offering funding through the Community Grants program to community groups\, organisations\, local businesses and artists. \nDo you have a great project idea that you just need some extra money to get started on? \nDo you want to know more about how grant programs work and how to increase your chances of funding success? \nJoin our free workshop run by grants expert Debby Maziarz! \nThis fun and hands-on workshop will focus on transforming your ideas into fundable concepts and will walk you step by step through the grant application process. \nTopics include: \n\nWhere to find the money\nWriting a killer 50-word grab\nBuilding a budget\nWorking with partners\nAnswering tricky questions\n\nFor more information and to book please click here.
URL:https://www.debbymaziarz.com.au/workshop/effective-grant-writing-workshop-moonee-valley-city-council-3/
LOCATION:Online\, Australia
END:VEVENT
BEGIN:VEVENT
DTSTART;TZID=Australia/Melbourne:20220922T180000
DTEND;TZID=Australia/Melbourne:20220922T200000
DTSTAMP:20260423T092542
CREATED:20220905T114736Z
LAST-MODIFIED:20220905T114736Z
UID:3246-1663869600-1663876800@www.debbymaziarz.com.au
SUMMARY:Grant Writing Workshops for Creatives - City of Melbourne
DESCRIPTION:Debby Maziarz will be running grant writing workshops to provide artists with practical tips and advice about how to write a grant application. The workshops will be delivered via Zoom. Details on how to participate will be sent after you register. \nFor more information and to book please click here. \nCity of Melbourne’s 2022 Quick Response Grants program will open for applications at 9am on Monday 19 September 2022 and close at 5pm on Wednesday 12 October 2022. We strongly recommend that you review the guidelines and the application form prior to attending this workshop to ensure your time is used wisely. Refer to the website for details.
URL:https://www.debbymaziarz.com.au/workshop/grant-writing-workshops-for-creatives-city-of-melbourne-2/
LOCATION:Online\, Australia
END:VEVENT
END:VCALENDAR