BEGIN:VCALENDAR
VERSION:2.0
PRODID:-//Debby Maziarz Productions - ECPv6.0.13.1//NONSGML v1.0//EN
CALSCALE:GREGORIAN
METHOD:PUBLISH
X-WR-CALNAME:Debby Maziarz Productions
X-ORIGINAL-URL:https://www.debbymaziarz.com.au
X-WR-CALDESC:Events for Debby Maziarz Productions
REFRESH-INTERVAL;VALUE=DURATION:PT1H
X-Robots-Tag:noindex
X-PUBLISHED-TTL:PT1H
BEGIN:VTIMEZONE
TZID:UTC
BEGIN:STANDARD
TZOFFSETFROM:+0000
TZOFFSETTO:+0000
TZNAME:UTC
DTSTART:20220101T000000
END:STANDARD
END:VTIMEZONE
BEGIN:VEVENT
DTSTART;TZID=UTC:20221005T180000
DTEND;TZID=UTC:20221005T200000
DTSTAMP:20260423T080155
CREATED:20220906T063503Z
LAST-MODIFIED:20220906T063503Z
UID:3254-1664992800-1665000000@www.debbymaziarz.com.au
SUMMARY:Starting a Small Business for Creative People: 2 Time and Money
DESCRIPTION:Do you love being creative and have a particular skill or hobby that you have been considering taking further? This workshop is aimed specifically at starting a small creative business and will give you practical knowledge\, skills and techniques to help get you started and make it a success. \nHosted by Living & Learning Nillumbik. \nWorkshop 3 – Sustaining your Arts Practice: Making a Plan \nMaking a Plan will explore: \n\nSetting intentions\nSetting personal\, professional\, and artistic goals\nCreative wellbeing\n\nFor more information and to book click here.
URL:https://www.debbymaziarz.com.au/workshop/starting-a-small-business-for-creative-people-2-time-and-money-2/
LOCATION:Eltham Neighbourhood House\, 739 Main Road\, Eltham\, Vic\, 3095\, Australia
ORGANIZER;CN="Nillumbik%20Shire%20Council":MAILTO:nillumbik@nillumbik.vic.gov.au
END:VEVENT
BEGIN:VEVENT
DTSTART;TZID=UTC:20221018T180000
DTEND;TZID=UTC:20221018T200000
DTSTAMP:20260423T080155
CREATED:20221007T012428Z
LAST-MODIFIED:20221007T012854Z
UID:3257-1666116000-1666123200@www.debbymaziarz.com.au
SUMMARY:Grant Writing Workshop - City of Whittlesea
DESCRIPTION:The City of Whittlesea is excited to offer the Cultural Heritage Funding Program (CHFP) Grant. \nUp to $2000 is available to support projects that showcase and celebrate the diverse cultural heritage of our community. Cultural heritage includes the many ways of living developed by communities. These traditions have been passed down through generations\, maintained in the present and grown on as a legacy for future generations. \nThis legacy may include physical artefacts and objects\, customs\, practices\, values\, artistic expressions and stories. \nIncludes: \n• Where to find the money\n• Writing a 50-word grab\n• Understanding the assessment criteria\n• Answering the questions in the application form\n• Building a project budget (for a grant application) \nThis workshop is open to residents and groups located in the City of Whittlesea. \nFor more information and to book click here.
URL:https://www.debbymaziarz.com.au/workshop/grant-writing-workshop-city-of-whittlesea/
LOCATION:Barry Road Community Activity Centre\, 36 Barry Road\, Thomastown\, VIC\, 3074\, Australia
END:VEVENT
BEGIN:VEVENT
DTSTART;TZID=UTC:20221021T130000
DTEND;TZID=UTC:20221021T150000
DTSTAMP:20260423T080155
CREATED:20221007T012618Z
LAST-MODIFIED:20221007T012618Z
UID:3260-1666357200-1666364400@www.debbymaziarz.com.au
SUMMARY:Grant Writing Workshop - City of Whittlesea
DESCRIPTION:The City of Whittlesea is excited to offer the Cultural Heritage Funding Program (CHFP) Grant. \nUp to $2000 is available to support projects that showcase and celebrate the diverse cultural heritage of our community. Cultural heritage includes the many ways of living developed by communities. These traditions have been passed down through generations\, maintained in the present and grown on as a legacy for future generations. \nThis legacy may include physical artefacts and objects\, customs\, practices\, values\, artistic expressions and stories. \nIncludes: \n• Where to find the money\n• Writing a 50-word grab\n• Understanding the assessment criteria\n• Answering the questions in the application form\n• Building a project budget (for a grant application) \nThis workshop is open to residents and groups located in the City of Whittlesea. \nFor more information and to book click here.
URL:https://www.debbymaziarz.com.au/workshop/grant-writing-workshop-city-of-whittlesea-2/
LOCATION:Mernda Village Community Activity Centre\, 70 Mernda Village Drive\, Mernda\, VIC\, 3754\, Australia
END:VEVENT
END:VCALENDAR